BEGIN:VCALENDAR
VERSION:2.0
CALSCALE:GREGORIAN
PRODID:adamgibbons/ics
METHOD:PUBLISH
X-PUBLISHED-TTL:PT1H
BEGIN:VEVENT
UID:33@events.bmorepunk.social
SUMMARY:A Benefit to Support Lebanon
DTSTAMP:20260421T081114Z
DTSTART:20260425T230000Z
DTEND:20260426T010000Z
URL:https://events.bmorepunk.social/event/a-benefit-to-support-lebanon
GEO:38.8853837;-76.9969742
LOCATION:Palestine House of Freedom - 650 Pennsylvania Ave SE\, Washington 
	DC\, 20003
STATUS:CONFIRMED
CATEGORIES:DC,Fundraiser
END:VEVENT
END:VCALENDAR
